BEGIN:VCALENDAR
VERSION:2.0
PRODID:-//Carolina Civic Center - ECPv6.0.8//NONSGML v1.0//EN
CALSCALE:GREGORIAN
METHOD:PUBLISH
X-ORIGINAL-URL:https://carolinaciviccenter.com
X-WR-CALDESC:Events for Carolina Civic Center
REFRESH-INTERVAL;VALUE=DURATION:PT1H
X-Robots-Tag:noindex
X-PUBLISHED-TTL:PT1H
BEGIN:VTIMEZONE
TZID:America/New_York
BEGIN:DAYLIGHT
TZOFFSETFROM:-0500
TZOFFSETTO:-0400
TZNAME:EDT
DTSTART:20260308T070000
END:DAYLIGHT
BEGIN:STANDARD
TZOFFSETFROM:-0400
TZOFFSETTO:-0500
TZNAME:EST
DTSTART:20261101T060000
END:STANDARD
END:VTIMEZONE
BEGIN:VEVENT
DTSTART;TZID=America/New_York:20260411T190000
DTEND;TZID=America/New_York:20260411T210000
DTSTAMP:20260425T190513
CREATED:20230720T170051Z
LAST-MODIFIED:20260316T194016Z
UID:14468-1775934000-1775941200@carolinaciviccenter.com
SUMMARY:Annual My Time to Shine Talent Competition
DESCRIPTION:Annual My Time to Shine Talent Competition\n7pm Saturday April 11\nThe very popular and competitive competition will feature approximately 20 contestants competing in all categories of talent\, from singing and dancing to instrumental and more. Auditions were held to determine qualifying contestants to showcase on the theater’s stage. The winner of this year’s competition will receive a $2\,000 cash prize\, with second place receiving $500 and third place $250. Additionally\, a People’s Choice Award will be chosen based on ticket sales for each contestant and donations made during purchase checkout. \nTickets for the competition are $20 general seating and can be purchased anytime on-line by visiting www.carolinaciviccenter.com.  Tickets also can be purchased in-person or with credit card or cash 1 – 5:30 pm Monday through Friday through the theater’s administrative offices\, or by calling (910) 738-4339. \n 
URL:https://carolinaciviccenter.com/event/annual-my-time-to-shine-talent-competition-2/
LOCATION:Carolina Civic Center\, 315 North Chestnut Street\, Lumberton\, 28358\, United States
CATEGORIES:Mainstage Series
ATTACH;FMTTYPE=image/jpeg:https://carolinaciviccenter.com/wp-content/uploads/2023/07/MTTS-2026-contestants-scaled.jpeg
END:VEVENT
BEGIN:VEVENT
DTSTART;TZID=America/New_York:20260417T080000
DTEND;TZID=America/New_York:20260418T170000
DTSTAMP:20260425T190513
CREATED:20260417T174542Z
LAST-MODIFIED:20260417T174542Z
UID:31855-1776412800-1776531600@carolinaciviccenter.com
SUMMARY:Before you buy - verify! PSA
DESCRIPTION:Dear NCPC Membership – this is a PUBLIC SERVICE ANNOUNCEMENT! \nBefore you buy – verify! \nA special task force created by the North Carolina Presenters Consortium has been working over the past year to address an issue that directly\, and negatively\, impacts performance venues throughout North Carolina:  second- and third-party resellers.  These are the entities (sometimes called “pirates”) that position themselves between ticket purchasers and the original hosting venues\, typically inflating the original ticket price for their own profit. \n  \nThis effort originated this past year as the NC General Assembly has been working to draft legislation addressing this issue. This campaign kicks off with our NCPC membership\, including venues and their patrons – and artists who rely on ticket sales by those venues. \nWe have produced three 3-minute videos\, each sharing a graphics/info shell but highlighting a specific issue: \n“The Ticketing Pirates” \n“Same Seat/Multiple Sales” \n“Know Your Seller” \nWe also have a fourth video that features only the tips that are included in the other videos. Follow this link to view\, download and share the videos. \nPlease consider sharing these videos on your social media platforms\, web sites\, e-newsletters\, in your lobbies and from the stage before your shows. To help you with this\, we have created a took kit full of handy tips and graphic slide decks.  \nHere is the Tips to Highlight in Social Media Posts (Consumers + Presenters) and the slide decks that support those tips. \nNeed even more ideas about how to use these videos? Click here for a great suggestion sheet. \nSo many of our venues\, patrons and artists have experienced the negative effects of an inflated or fraudulent ticket sale – so let’s make a proactive effort to shut this kind of activity down! \nAnd please reach out to us with any questions or suggestions – the show must go on! \n 
URL:https://carolinaciviccenter.com/event/before-you-buy-verify-psa/
CATEGORIES:Special Event
ATTACH;FMTTYPE=image/jpeg:https://carolinaciviccenter.com/wp-content/uploads/2026/04/email-header-graphic.jpg
END:VEVENT
BEGIN:VEVENT
DTSTART;TZID=America/New_York:20260430T173000
DTEND;TZID=America/New_York:20260430T200000
DTSTAMP:20260425T190513
CREATED:20260417T160114Z
LAST-MODIFIED:20260417T160114Z
UID:31852-1777570200-1777579200@carolinaciviccenter.com
SUMMARY:City of Lumberton Community Outreach Event
DESCRIPTION:CITY OF LUMBERTON\, NORTH CAROLINA\nCommunity Outreach Event\nThursday\, April 30th\nTime: 5:30 – 8:00 PM \nJoin us to explore master plan and market study updates and take part in shaping the future of downtown Lumberton! \nFood will be served. All are welcome!\nAn RSVP would be greatly appreciated so we can provide enough food for everyone attending. \nLocation:\nCarolina Civic Center\n315 N Chestnut Street\nLumberton\, NC 28358 \nYou are invited to attend a Community Outreach Event for Downtown Lumberton on Thursday\, April 30th from 5:30 – 8:00 PM at the Carolina Civic Center (315 N Chestnut Street). \nThis event will provide an opportunity to review updates on the Downtown Master Plan and market study\, and to share your input as we continue shaping the future of downtown Lumberton. \nFood will be served\, and all are welcome. An RSVP is appreciated to help us plan accordingly. \nAs part of this effort\, the City of Lumberton has been awarded a $500\,000 U.S. Environmental Protection Agency Brownfield Grant to support assessment\, cleanup planning\, and redevelopment of underutilized properties. This initiative is an important step toward encouraging investment\, supporting job creation\, and strengthening our downtown. \nPlease feel free to share this invitation with others who may be interested.
URL:https://carolinaciviccenter.com/event/city-of-lumberton-community-outreach-event/
LOCATION:Carolina Civic Center\, 315 North Chestnut Street\, Lumberton\, 28358\, United States
CATEGORIES:Special Event
ATTACH;FMTTYPE=image/jpeg:https://carolinaciviccenter.com/wp-content/uploads/2026/04/Lumberton-Community-Event-Flyer-CROPPED.jpg
END:VEVENT
BEGIN:VEVENT
DTSTART;TZID=America/New_York:20260610T190000
DTEND;TZID=America/New_York:20260614T180000
DTSTAMP:20260425T190513
CREATED:20240719T181410Z
LAST-MODIFIED:20260116T012618Z
UID:25606-1781118000-1781460000@carolinaciviccenter.com
SUMMARY:Summer Musical: Hairspray
DESCRIPTION:Summer Musical:  Hairspray\n7pm Wednesday June 10\n7pm Thursday June 11\n7pm Friday June 12\n1pm Saturday June 13    7pm Saturday June 13\n3pm Sunday June 14\nDirected by the theater’s resident artist\, Kendrix Singletary\, in the spectacular\, special way that audiences have come to expect from the artistic team at the Carolina Civic Center Historic Theater.  The 1950s are out\, and change is in the air! Hairspray\, winner of eight Tony Awards\, including Best Musical\, is a family-friendly musical\, piled bouffant-high with laughter\, romance and deliriously tuneful songs. Hairspray is a musical based on John Waters’ 1988 film about a teenager named Tracy Turnblad who dreams of dancing on a local TV Show in 1962 Baltimore. \nTickets: Individuals $30\, Seniors (60+) and Military $27. Students $15. Group discount rates of $25 each for groups of 10 or more when purchased in advance are available by contacting the box office.  Season Tickets:  Purchase tickets to all 6 events of the season at the same time through our box office to receive a 20% discount.  *The seats in the back half of the balcony may have an obstructed view. Balcony seating requires walking up SIGNIFICANT Stairs with no elevator access. ***We do not guarantee the authenticity of tickets purchased from any third party reseller and recommend that you purchase tickets directly through our box office\, etix.com or our website to ensure ticket authenticity and pricing.*** \nTicketing Information\nTickets for the Mainstage Series can be purchased on-line by going to our website at www.carolinaciviccenter.com. Tickets also can be purchased in-person or with credit card or cash 1 to 5:30 pm Monday through Friday through our administrative offices in the theater’s second floor (enter on Fourth Street side)\, or by calling the Civic Center at (910) 738-4339. When available\, tickets can also be purchased at the door. Theater lobby box office opens for ticket sales one hour prior to performance.
URL:https://carolinaciviccenter.com/event/summer-musical-hairspray/
LOCATION:Carolina Civic Center\, 315 North Chestnut Street\, Lumberton\, 28358\, United States
CATEGORIES:Mainstage Series
ATTACH;FMTTYPE=image/jpeg:https://carolinaciviccenter.com/wp-content/uploads/2024/07/Hairspray-2.jpg
END:VEVENT
BEGIN:VEVENT
DTSTART;TZID=America/New_York:20260815T190000
DTEND;TZID=America/New_York:20260815T220000
DTSTAMP:20260425T190513
CREATED:20260411T203802Z
LAST-MODIFIED:20260411T203802Z
UID:31819-1786820400-1786831200@carolinaciviccenter.com
SUMMARY:Ronnie McDowell's Red\, White and Blue Tour
DESCRIPTION:THIS IS A RENTAL EVENT WITH THE RENTER SELLING TICKETS\nTICKETS CAN BE PURCHASED THROUGH THIS LINK\n🎶 RED\, WHITE & BLUE TOUR — LIVE IN LUMBERTON\, NC! 🎶The Red\, White & Blue Tour is coming to the Carolina Civic Center Historic Theater in Lumberton\, North Carolina on August 15th for one unforgettable night of classic country\, powerhouse performances\, and patriotic celebration!   Doors open 6pm for 7pm show. \n⭐ Ronnie McDowell — With an incredible 50-year career and more than 30 Top 40 hits\, Ronnie brings legendary songs and timeless tributes that helped shape country music history. \n🎤 Jeff Bates — A modern traditional country standout\, Jeff is known for his chart-topping hits\, rich vocals\, and heartfelt performances that connect with every audience. \n🎶 Paulette Carlson — The iconic voice behind Highway 101\, Paulette delivers beloved classics like “Who’s Lonely Now\,” “Cry\, Cry\, Cry\,” and “Whiskey\, If You Were A Woman\,” bringing authentic country roots and hit-after-hit to the stage. \n🎸 Doyle Grisham — A true legend on steel guitar and longtime member of Jimmy Buffett’s Coral Reefer Band\, Doyle’s signature sound has filled arenas across the world. Now\, experience his incredible musicianship up close in this intimate setting. \nOne of country music’s top legendary performers\, Ronnie McDowell has just announced the brand-new Red\, White\, and Blue Tour is headed to the famous Crockett Theatre in Lawrenceburg Tennessee on Thursday\, April 23.  \nRonnie is joined by two of the most distinctive voices in country music history\, Jeff Bates and Paulette Carlson\, founder and lead singer of Highway 101.   \nMcDowell\, known for 30 top 40 country music hits such as “Older Women”\, “You’re Gonna Ruin My Bad Reputation\, “Personally”\, “I’m All Tied Up”\, “In A New York Minute”\, “Unchained Melody”\, “Wandering Eyes”\, “Step Back”\, “Watching Girls Go By”\, “I Dream of Women Like You”\, “I Love You\, I Love You\, I Love You”\, and countless others\, will take audiences back to some of the greatest eras in American music.  \nKnown as an “Entertainer’s Entertainer”\, McDowell first hit the national music scene in 1977 at the sudden passing of Elvis Presley with his self-penned tribute\, “The King Is Gone”. The hit sold over six million records and led to McDowell becoming the “voice of Elvis” in both films and an ABC television series. \n \n 
URL:https://carolinaciviccenter.com/event/ronnie-mcdowells-red-white-and-blue-tour/
LOCATION:Carolina Civic Center\, 315 North Chestnut Street\, Lumberton\, 28358\, United States
CATEGORIES:Rental Event
ATTACH;FMTTYPE=image/png:https://carolinaciviccenter.com/wp-content/uploads/2026/04/Banner-Lumberton-NC-3.png
END:VEVENT
END:VCALENDAR