BEGIN:VCALENDAR
VERSION:2.0
PRODID:-//Carolina Civic Center - ECPv6.0.8//NONSGML v1.0//EN
CALSCALE:GREGORIAN
METHOD:PUBLISH
X-ORIGINAL-URL:https://carolinaciviccenter.com
X-WR-CALDESC:Events for Carolina Civic Center
REFRESH-INTERVAL;VALUE=DURATION:PT1H
X-Robots-Tag:noindex
X-PUBLISHED-TTL:PT1H
BEGIN:VTIMEZONE
TZID:America/New_York
BEGIN:DAYLIGHT
TZOFFSETFROM:-0500
TZOFFSETTO:-0400
TZNAME:EDT
DTSTART:20220313T070000
END:DAYLIGHT
BEGIN:STANDARD
TZOFFSETFROM:-0400
TZOFFSETTO:-0500
TZNAME:EST
DTSTART:20221106T060000
END:STANDARD
BEGIN:DAYLIGHT
TZOFFSETFROM:-0500
TZOFFSETTO:-0400
TZNAME:EDT
DTSTART:20230312T070000
END:DAYLIGHT
BEGIN:STANDARD
TZOFFSETFROM:-0400
TZOFFSETTO:-0500
TZNAME:EST
DTSTART:20231105T060000
END:STANDARD
BEGIN:DAYLIGHT
TZOFFSETFROM:-0500
TZOFFSETTO:-0400
TZNAME:EDT
DTSTART:20240310T070000
END:DAYLIGHT
BEGIN:STANDARD
TZOFFSETFROM:-0400
TZOFFSETTO:-0500
TZNAME:EST
DTSTART:20241103T060000
END:STANDARD
BEGIN:DAYLIGHT
TZOFFSETFROM:-0500
TZOFFSETTO:-0400
TZNAME:EDT
DTSTART:20250309T070000
END:DAYLIGHT
BEGIN:STANDARD
TZOFFSETFROM:-0400
TZOFFSETTO:-0500
TZNAME:EST
DTSTART:20251102T060000
END:STANDARD
BEGIN:DAYLIGHT
TZOFFSETFROM:-0500
TZOFFSETTO:-0400
TZNAME:EDT
DTSTART:20260308T070000
END:DAYLIGHT
BEGIN:STANDARD
TZOFFSETFROM:-0400
TZOFFSETTO:-0500
TZNAME:EST
DTSTART:20261101T060000
END:STANDARD
END:VTIMEZONE
BEGIN:VEVENT
DTSTART;TZID=America/New_York:20260204T160000
DTEND;TZID=America/New_York:20260204T200000
DTSTAMP:20260419T114928
CREATED:20251229T201629Z
LAST-MODIFIED:20260203T202608Z
UID:30939-1770220800-1770235200@carolinaciviccenter.com
SUMMARY:K-POP WARRIORS Live Show!
DESCRIPTION:This special rental event is still on for tomorrow\, Wednesday February 4.\n\nShows at 4 and 6:30pm and tickets can be purchased from the renter through the post or at the door.\n\nSnow around the theater at 315 North Chestnut Street Lumberton is mostly cleared!\n\nK-POP WARRIORS Live Show! \nTHIS IS A RENTAL EVENT – TICKETS ARE BEING SOLD BY THE RENTER\, NOT THE CAROLINA CIVIC CENTER\n(see ticketing link\, below) \nA show packed with music\, excitement\, and action to the rhythm of K-Pop. Experience stunning choreography\, vibrant costumes\, and the contagious energy of your favorite hits. The live show that’s thrilling audiences worldwide\, an experience you simply can’t miss! \nExperience stunning choreography\, vibrant costumes\, and the contagious energy of your favorite hits. The live show that’s thrilling audiences worldwide\, an experience you simply can’t miss! \nPURCHASE TICKETS BY FOLLOWING THIS LINK:  KPOP WARRIORS – Lumberton\, NC Tickets\, Multiple Dates | Eventbrite
URL:https://carolinaciviccenter.com/event/k-pop-warriors-live-show/
LOCATION:Carolina Civic Center\, 315 North Chestnut Street\, Lumberton\, 28358\, United States
CATEGORIES:Rental Event
ATTACH;FMTTYPE=image/jpeg:https://carolinaciviccenter.com/wp-content/uploads/2025/12/kpop-warriors-graphic.jpg
END:VEVENT
BEGIN:VEVENT
DTSTART;TZID=America/New_York:20250301T160000
DTEND;TZID=America/New_York:20250301T200000
DTSTAMP:20260419T114928
CREATED:20250214T165803Z
LAST-MODIFIED:20250214T165803Z
UID:28609-1740844800-1740859200@carolinaciviccenter.com
SUMMARY:Circus on Ice
DESCRIPTION:THIS IS A RENTAL EVENT WITH RENTER MANAGING ALL TICKET SALES\nPLEASE SEE LINK BELOW\nFacebook: www.facebook.com/circusoniceusa \nTicket link: https://CIRCUSONICE-Lumberton.eventbrite.com \nDescription: \nGet ready for Circus on Ice! A fun and exciting show for the whole family! \nSee amazing performers spin\, jump\, and glide on ice. Watch thrilling acts and colorful costumes that will make you smile and cheer!” \nJoin us at the Carolina Civic Center on March 1st\, 4 and 6:30pm! Tickets are going fast—get yours now at https://CIRCUSONICE-Lumberton.eventbrite.com.” \n“Circus on Ice—a show you won’t forget!” \nFor ticket inquiries\, please call 702-637-5599.
URL:https://carolinaciviccenter.com/event/circus-on-ice/
LOCATION:Carolina Civic Center\, 315 North Chestnut Street\, Lumberton\, 28358\, United States
CATEGORIES:Rental Event
ATTACH;FMTTYPE=image/jpeg:https://carolinaciviccenter.com/wp-content/uploads/2025/02/2025-promo-graphic.jpg
END:VEVENT
BEGIN:VEVENT
DTSTART;TZID=America/New_York:20231028T180000
DTEND;TZID=America/New_York:20231028T200000
DTSTAMP:20260419T114928
CREATED:20230807T191338Z
LAST-MODIFIED:20230810T171249Z
UID:19230-1698516000-1698523200@carolinaciviccenter.com
SUMMARY:A Carolina Evening with Ivan Parker
DESCRIPTION:This is a special rental event. Tickets are being sold only online or by telephone through the renter. Just click through the “Purchase Tickets Here” for all ticketing.\nCome join Ivan Parker\, his friends Real Truth Revival and special guest Heartsong\, for a night of worship and celebration at the historic Carolina Civic Center in downtown Lumberton\, NC!
URL:https://carolinaciviccenter.com/event/real-truth-revival-special-event/
LOCATION:Carolina Civic Center\, 315 North Chestnut Street\, Lumberton\, 28358\, United States
CATEGORIES:Rental Event
ATTACH;FMTTYPE=image/jpeg:https://carolinaciviccenter.com/wp-content/uploads/2023/08/Real-Truth-Revival-banner.jpg
END:VEVENT
BEGIN:VEVENT
DTSTART;TZID=America/New_York:20230923T190000
DTEND;TZID=America/New_York:20230923T220000
DTSTAMP:20260419T114928
CREATED:20230629T164954Z
LAST-MODIFIED:20230629T181329Z
UID:18869-1695495600-1695506400@carolinaciviccenter.com
SUMMARY:Cause We Care evening of contemporary Christian music (rental event)
DESCRIPTION:SPECIAL RENTAL EVENT\nCause We Care Addiction Resource Group presents an evening of contemporary Christian music with the United Worship Band and 4PointsNorth. The host of the evening will be Published Author and Vertical Church Location Pastor\, Hector Miray. All proceeds will assist Cause We Care in their fight against addiction in Robeson County and will allow them the funding necessary to provide participants with Christian based addiction resources such as long term rehabilitation\, counseling\, and group support. \nTicketing link: \nhttps://www.eventbrite.com/e/cause-we-care-presents-a-night-of-worship-tickets-667716737737?aff=oddtdtcreator
URL:https://carolinaciviccenter.com/event/cause-we-care-evening-of-contemporary-christian-music-rental-event/
LOCATION:Carolina Civic Center\, 315 North Chestnut Street\, Lumberton\, 28358\, United States
CATEGORIES:Rental Event
ATTACH;FMTTYPE=image/jpeg:https://carolinaciviccenter.com/wp-content/uploads/2023/06/Because-we-care-tile.jpg
END:VEVENT
BEGIN:VEVENT
DTSTART;TZID=America/New_York:20230907T180000
DTEND;TZID=America/New_York:20230907T200000
DTSTAMP:20260419T114928
CREATED:20230807T183826Z
LAST-MODIFIED:20230830T160828Z
UID:19227-1694109600-1694116800@carolinaciviccenter.com
SUMMARY:International Overdose Awareness Day Event
DESCRIPTION:THIS EVENT HAS BEEN RESCHEDULED TO THURSDAY SEPTEMBER 7\, 2023\nThe Robeson Rural Communities Opioid Response Program (RCORP) Consortium is pleased to present on International Overdose Awareness Day\, a locally filmed documentary capturing the struggles and triumphs of opioids in the Robeson community. The consortium is a group of multiple agencies working together since 2020 to decrease the morbidity and mortality of opioid use in the community. Please join us at the esteemed Carolina Civic Center Historic Theater on Thursday August 31\, 2023 from 6-8pm. The admission is free including movie theater snacks for your enjoyment! Lots of door prizes\, and a “Recovery Tree” honoring those we have unfortunately loss through this epidemic. We hope to see you there!
URL:https://carolinaciviccenter.com/event/international-overdose-awareness-day-event/
LOCATION:Carolina Civic Center\, 315 North Chestnut Street\, Lumberton\, 28358\, United States
CATEGORIES:Film,Rental Event,Special Event
ATTACH;FMTTYPE=image/jpeg:https://carolinaciviccenter.com/wp-content/uploads/2023/08/robeson-healthcare-web-tile-RESCHEDULE.jpg
END:VEVENT
BEGIN:VEVENT
DTSTART;TZID=America/New_York:20220409T150000
DTEND;TZID=America/New_York:20220409T200000
DTSTAMP:20260419T114928
CREATED:20220330T171925Z
LAST-MODIFIED:20220401T152650Z
UID:12605-1649516400-1649534400@carolinaciviccenter.com
SUMMARY:Just Added! Circus on Ice
DESCRIPTION:THIS IS A RENTAL EVENT WITH TICKETS SOLD BY THE RENTER THROUGH THE LINK BELOW\nPERFORMANCES AT 3PM AND 5:30PM (1.5 HOURS EACH)\n\nAn elegant ballet on ice combined with magnificent traditional circus acts. It is a real magical performance for all ages.\n\n\n\n\n\nAbout this event\n\n\nCome and have a great family time! The great circus on ice invites you to this frozen adventure with all your favorite characters\, amazing circus acts\, jugglers\, tight rope walkers\, clowns\, and awesome ice skaters! \nChildren $15 + tax and fees\nAdults $25 + tax and fees \nLimited Tickets!! Hurry up to get yours!!  PURCHASE TICKETS HERE! \n*Ice Skaters will perform on synthetic ice surfaces* \nDo kids need a ticket?\nKids under 2 years old are free\nKids 2 to 12 need a kid ticket\nKids 13 and up need an adult ticket
URL:https://carolinaciviccenter.com/event/just-added-circus-on-ice/
LOCATION:Carolina Civic Center\, 315 North Chestnut Street\, Lumberton\, 28358\, United States
CATEGORIES:Rental Event
ATTACH;FMTTYPE=image/jpeg:https://carolinaciviccenter.com/wp-content/uploads/2022/03/promo-graphic.jpg
END:VEVENT
END:VCALENDAR