BEGIN:VCALENDAR
VERSION:2.0
PRODID:-//Carolina Civic Center - ECPv6.0.8//NONSGML v1.0//EN
CALSCALE:GREGORIAN
METHOD:PUBLISH
X-WR-CALNAME:Carolina Civic Center
X-ORIGINAL-URL:https://carolinaciviccenter.com
X-WR-CALDESC:Events for Carolina Civic Center
REFRESH-INTERVAL;VALUE=DURATION:PT1H
X-Robots-Tag:noindex
X-PUBLISHED-TTL:PT1H
BEGIN:VTIMEZONE
TZID:America/New_York
BEGIN:DAYLIGHT
TZOFFSETFROM:-0500
TZOFFSETTO:-0400
TZNAME:EDT
DTSTART:20220313T070000
END:DAYLIGHT
BEGIN:STANDARD
TZOFFSETFROM:-0400
TZOFFSETTO:-0500
TZNAME:EST
DTSTART:20221106T060000
END:STANDARD
END:VTIMEZONE
BEGIN:VEVENT
DTSTART;TZID=America/New_York:20220407T080000
DTEND;TZID=America/New_York:20220407T170000
DTSTAMP:20260421T001249
CREATED:20220302T201009Z
LAST-MODIFIED:20220302T210753Z
UID:12332-1649318400-1649350800@carolinaciviccenter.com
SUMMARY:Brianna Goodwin Art Reception
DESCRIPTION:The Carolina Civic Center Historic Theater in downtown Lumberton will hold a reception 5:30-7pm Thursday April 7 for an exhibit featuring artwork by artist Brianna Goodwin. Emerge: The Art of Brianna Goodwin will be on display March 19 through April 22 in the theater’s main lobby.  In addition to the reception\, the exhibit can be viewed by the public during scheduled events or by appointment. \nBased in rural North Carolina\, Brianna Goodwin began creating floral pieces in her home as a therapeutic exercise\, and has been painting acrylic and mixed media works since 2019. Originally a performing artist\, she blends her love of telling stories with a passion for visual art. \n“Emerge is an exhibit that explores the transformational periods of one’s life\,” said Goodwin. “Throughout the pieces I have paired abstract portraits with symbols of nature and unorthodox brush strokes to reflect the imperfections of our patterns of emerging. Processes such as the changing of seasons from winter to spring or a woman becoming a mother are beautiful\, yet somewhat imperfect in nature. Through these works I hope to convey that however imperfect these life transformations may be\, they are vital to our growth and propensity to reach our truest selves.” \nSoon after Goodwin began sharing her work online\, she received inquiries from viewers interested in purchasing. Since that time\, she has immersed herself into developing her signature style of abstract and impressionistic paintings for her collectors. She has conducted workshops\, created a line of products and seen immeasurable success as a self-taught painter. She is elated to be partnering with the Carolina Civic Center to feature her first full exhibit. \nThe Carolina Civic Center Historic Theater is a beautifully-restored 1928 treasure listed on the National Register of Historic Places that offers visitors a unique and visually stunning experience. The theater is located at 315 North Chestnut Street in the heart of downtown Lumberton.  First opened as a vaudeville and silent film house\, the theater offers a wide array of programming including live touring performances\, original productions\, art exhibits\, films\, special events and rentals. For more information visit www.carolinaciviccenter.com \nThe Carolina Civic Center Historic Theater is located in historic downtown Lumberton at Fourth and Chestnut streets\, just one block north of the downtown plaza. There is plenty of parking around the theater.
URL:https://carolinaciviccenter.com/event/brianna-goodwin-art-reception/
LOCATION:Carolina Civic Center\, 315 North Chestnut Street\, Lumberton\, 28358\, United States
CATEGORIES:Lobby Exhibit
ATTACH;FMTTYPE=image/jpeg:https://carolinaciviccenter.com/wp-content/uploads/2022/03/Emerge5-CROPPED-scaled.jpg
END:VEVENT
END:VCALENDAR