BEGIN:VCALENDAR
VERSION:2.0
PRODID:-//Carolina Civic Center - ECPv6.0.8//NONSGML v1.0//EN
CALSCALE:GREGORIAN
METHOD:PUBLISH
X-ORIGINAL-URL:https://carolinaciviccenter.com
X-WR-CALDESC:Events for Carolina Civic Center
REFRESH-INTERVAL;VALUE=DURATION:PT1H
X-Robots-Tag:noindex
X-PUBLISHED-TTL:PT1H
BEGIN:VTIMEZONE
TZID:America/New_York
BEGIN:DAYLIGHT
TZOFFSETFROM:-0500
TZOFFSETTO:-0400
TZNAME:EDT
DTSTART:20250309T070000
END:DAYLIGHT
BEGIN:STANDARD
TZOFFSETFROM:-0400
TZOFFSETTO:-0500
TZNAME:EST
DTSTART:20251102T060000
END:STANDARD
BEGIN:DAYLIGHT
TZOFFSETFROM:-0500
TZOFFSETTO:-0400
TZNAME:EDT
DTSTART:20260308T070000
END:DAYLIGHT
BEGIN:STANDARD
TZOFFSETFROM:-0400
TZOFFSETTO:-0500
TZNAME:EST
DTSTART:20261101T060000
END:STANDARD
END:VTIMEZONE
BEGIN:VEVENT
DTSTART;TZID=America/New_York:20250215T110000
DTEND;TZID=America/New_York:20250216T143000
DTSTAMP:20260422T181955
CREATED:20240110T203948Z
LAST-MODIFIED:20250207T224102Z
UID:20926-1739617200-1739716200@carolinaciviccenter.com
SUMMARY:AUDITIONS: My Time to Shine Talent Competition
DESCRIPTION:Our 11th Annual\, hugely popular –and very competitive- talent competition. Includes all categories of talent from singing and dancing to instrumentalist. Auditions will be held to determine who gets to showcase on our stage\, with over $1800 in cash prizes going to the top contestants. \nAUDITIONS:\n*February 15th (11am)\n*February 16th (2:30pm) \nA completed application and fee are required to audition. Using the link below\, applications can be downloaded (completed and emailed to the email address below)\, printed (dropped off in the theaters side-door mailbox or mailed to the address below)\, or you may pick up an application at the theater (4th street door) weekdays between 1-5:30 pm. \nAll applications and the non-refundable $20 registration fee (PayPal/Cash/Debit) must be submitted by 6pm Feb. 7th. Auditions are mandatory to compete\, and incomplete applications will not be accepted. \nApplications and Payments Mailed: \nJonathan Brewington\n315 N. Chestnut Street\nLumberton\, NC 28358 \nFor inquires pertaining to the show and auditions\, or to pay your application fee over the phone\, contact Jonathan at 910-738-4339\, ext. 2\, or email him at Jonathan@CarolinaCivicCenter.com \nBut it’s more than a competition\, it’s a great show! \nMTTS AUDITION APPLICATION\nClick here to pay your APPLICATION FEE\n\nIf the payment link above does not work\, please email your application and phone number to Jonathan@CarolinaCivicCenter.com and someone will call you shortly for over-the-phone payment.  \n  \n 
URL:https://carolinaciviccenter.com/event/auditions-my-time-to-shine-talent-competition/
LOCATION:Carolina Civic Center\, 315 North Chestnut Street\, Lumberton\, 28358\, United States
CATEGORIES:Audition
ATTACH;FMTTYPE=image/jpeg:https://carolinaciviccenter.com/wp-content/uploads/2024/01/My-Time-To-Shine.jpg
END:VEVENT
BEGIN:VEVENT
DTSTART;TZID=America/New_York:20260220T170000
DTEND;TZID=America/New_York:20260221T130000
DTSTAMP:20260422T181955
CREATED:20260116T012318Z
LAST-MODIFIED:20260216T192059Z
UID:31038-1771606800-1771678800@carolinaciviccenter.com
SUMMARY:Hairspray Auditions!
DESCRIPTION:Directed by Kendrix Singletary\, Hairspray is a high-energy musical set in 1962 Baltimore that follows Tracy Turnblad\, a big-hearted\, plus-size teenager with a passion for dancing and a belief in equality. Tracy dreams of appearing on The Corny Collins Show\, a popular local TV dance program. When she finally earns a spot on the show\, her talent and infectious spirit quickly make her a star\, and challenge the show’s rigid beauty standards. As Tracy’s popularity grows\, she uses her newfound platform to speak out against racial segregation on the program\, which only allows Black dancers to appear once a month on “Negro Day.” With the help of her best friend Penny\, heartthrob Link Larkin\, and her supportive mother Edna\, Tracy stands up to the show’s discriminatory producer\, Velma Von Tussle\, and her spoiled daughter Amber. Facing backlash\, arrest\, and public opposition\, Tracy refuses to give up. In the end\, her courage and determination help bring about integration on The Corny Collins Show\, proving that change is possible when people stand up for what’s right. Hairspray celebrates individuality\, acceptance\, and the power of young voices to inspire social progress\, all set to an upbeat\, dance-filled score. \nAUDITION DATES:\n*Friday\, February 20th (6:00pm  or  6:30pm)\n*Saturday\, February 21st (11:00am) \nCALLBACKS/DANCE AUDITION: Saturday\, February 21st (1pm) *you will be notified after your audition if you are needed at this mandatory callback/dance audition. A change of appropriate clothing is recommended. \nPERFORMANCE DATES: June 10th – June 14th \nAUDITION APPLICATION (Click Here): Print\, complete\, and bring this application to your audition. Applications will also be available at auditions. \nAUDITION REQUIREMENTS: All auditioning for a principal role should come prepared to sing a song by that character. All others auditioning should come prepared to sing a song of their choice\, and one that displays their range and vocal ability. (Broadway Musical Preferred) **A laptop will be available for you to YouTube your preferred track for your audition. You may also bring in a USB drive with your music track as well. Instrumental/no lead vocals. \nIf you cannot make the in-person auditions\, please print and complete the audition form and email it along with a video of yourself singing your desired character song to Jonathan@CarolinaCivicCenter.com. At the beginning of the video please state your name\, age\, something interesting about yourself\, and the character you’re auditioning for. \nFor inquires pertaining to the show or auditions\, please contact the Stage Manager Jonathan Brewington at 910-738-4339 Ext.2\, or Jonathan@CarolinaCivicCenter.com
URL:https://carolinaciviccenter.com/event/hairspray-auditions/
LOCATION:Carolina Civic Center\, 315 North Chestnut Street\, Lumberton\, 28358\, United States
CATEGORIES:Audition
ATTACH;FMTTYPE=image/jpeg:https://carolinaciviccenter.com/wp-content/uploads/2026/01/bb.jpg
END:VEVENT
END:VCALENDAR