BEGIN:VCALENDAR
VERSION:2.0
PRODID:-//Carolina Civic Center - ECPv6.0.8//NONSGML v1.0//EN
CALSCALE:GREGORIAN
METHOD:PUBLISH
X-ORIGINAL-URL:https://carolinaciviccenter.com
X-WR-CALDESC:Events for Carolina Civic Center
REFRESH-INTERVAL;VALUE=DURATION:PT1H
X-Robots-Tag:noindex
X-PUBLISHED-TTL:PT1H
BEGIN:VTIMEZONE
TZID:America/New_York
BEGIN:DAYLIGHT
TZOFFSETFROM:-0500
TZOFFSETTO:-0400
TZNAME:EDT
DTSTART:20170312T070000
END:DAYLIGHT
BEGIN:STANDARD
TZOFFSETFROM:-0400
TZOFFSETTO:-0500
TZNAME:EST
DTSTART:20171105T060000
END:STANDARD
END:VTIMEZONE
BEGIN:VEVENT
DTSTART;TZID=America/New_York:20170811T180000
DTEND;TZID=America/New_York:20170812T120000
DTSTAMP:20260422T231933
CREATED:20170628T170521Z
LAST-MODIFIED:20170628T170521Z
UID:2527-1502474400-1502539200@carolinaciviccenter.com
SUMMARY:Christmas Show Auditions
DESCRIPTION:“A Robeson County Christmas Show” Auditions \nat the Carolina Civic Center Historic Theater \nThe Carolina Civic Center Historic Theatre is holding auditions for its sixth Annual “A Robeson County Christmas Show” original production. Directed by the theater’s resident artist\, Kendrix Singletary\, the show is a heart-warming\, holiday musical revue that the entire family will enjoy. The show will feature a talented local cast of singers and dancers performing popular and traditional season classics. With special appearances by Rudolph the Red Nose Reindeer\, The Grinch\, Frosty the Snowman\, and of course Santa Claus! Rehearsals will start in September\, with show dates Dec. 7-10\, with school shows during the week of November 27. \nSeeking: \n3 female singer/dancers\n3 male singer/dancers \nAlso seeking mature and talented young looking children ages seven and older who dance and take direction well. \nAuditions will take place at the Carolina Civic Center downtown Lumberton on: \nFriday Aug. 11 at 6pm and 7:30pm\nSaturday August 12 at 10am \nChristmas songs would be appropriate for your audition but not required. Please bring your own accompaniment tracks (a cd player will be provided) and be ready to learn a short movement routine.  All adult performers will receive a stipend at the end of the last show. \nThe theater is located at 315 North Chestnut Street in downtown Lumberton. Phone number is 738-4339. Go towww.carolinaciviccenter.com for full schedule.
URL:https://carolinaciviccenter.com/event/christmas-show-auditions-3/
CATEGORIES:Audition
ATTACH;FMTTYPE=image/jpeg:https://carolinaciviccenter.com/wp-content/uploads/2017/05/RCC-2-SMALL.jpg
END:VEVENT
END:VCALENDAR